Package: Anaquin Version: 2.26.0 Command: /home/biocbuild/R/R-4.3.1/bin/R CMD build --keep-empty-dirs --no-resave-data Anaquin StartedAt: 2023-11-01 22:15:22 -0000 (Wed, 01 Nov 2023) EndedAt: 2023-11-01 22:15:48 -0000 (Wed, 01 Nov 2023) EllapsedTime: 26.0 seconds RetCode: 0 Status: OK PackageFile: Anaquin_2.26.0.tar.gz PackageFileSize: 417.6 KiB