Package: AnVILWorkflow Version: 1.2.0 Command: rm -rf AnVILWorkflow.buildbin-libdir && mkdir AnVILWorkflow.buildbin-libdir && /Users/biocbuild/BBS/utils/build-universal.sh AnVILWorkflow_1.2.0.tar.gz /Library/Frameworks/R.framework/Resources/bin/R AnVILWorkflow.buildbin-libdir StartedAt: 2024-03-04 00:28:59 -0500 (Mon, 04 Mar 2024) EndedAt: 2024-03-04 00:29:08 -0500 (Mon, 04 Mar 2024) EllapsedTime: 9.2 seconds RetCode: 0 Status: OK PackageFile: AnVILWorkflow_1.2.0.tgz PackageFileSize: 284.5 KiB