Package: AnVILBilling Version: 1.12.0 Command: chmod a+r AnVILBilling -R && F:\biocbuild\bbs-3.18-bioc\R\bin\R.exe CMD build --keep-empty-dirs --no-resave-data AnVILBilling StartedAt: 2024-04-15 16:58:02 -0400 (Mon, 15 Apr 2024) EndedAt: 2024-04-15 16:58:23 -0400 (Mon, 15 Apr 2024) EllapsedTime: 21.2 seconds RetCode: 0 Status: OK PackageFile: AnVILBilling_1.12.0.tar.gz PackageFileSize: 1.006 MiB