Package: AnVILBilling Version: 1.12.0 Command: /home/biocbuild/R/R-4.3.1/bin/R CMD INSTALL AnVILBilling StartedAt: 2023-11-01 20:38:15 -0000 (Wed, 01 Nov 2023) EndedAt: 2023-11-01 20:38:27 -0000 (Wed, 01 Nov 2023) EllapsedTime: 12.1 seconds RetCode: 0 Status: OK