Package: AnVIL Version: 1.14.3 Command: F:\biocbuild\bbs-3.18-bioc\R\bin\R.exe CMD INSTALL AnVIL StartedAt: 2024-04-15 16:10:28 -0400 (Mon, 15 Apr 2024) EndedAt: 2024-04-15 16:10:41 -0400 (Mon, 15 Apr 2024) EllapsedTime: 13.2 seconds RetCode: 0 Status: OK