Package: AnVIL Version: 1.14.3 Command: /home/biocbuild/bbs-3.18-bioc/R/bin/R CMD INSTALL AnVIL StartedAt: 2024-04-15 15:24:45 -0400 (Mon, 15 Apr 2024) EndedAt: 2024-04-15 15:24:51 -0400 (Mon, 15 Apr 2024) EllapsedTime: 6.0 seconds RetCode: 0 Status: OK