Package: AlphaBeta Version: 1.16.0 Command: F:\biocbuild\bbs-3.18-bioc\R\bin\R.exe CMD check --no-multiarch --install=check:AlphaBeta.install-out.txt --library=F:\biocbuild\bbs-3.18-bioc\R\library --no-vignettes --timings AlphaBeta_1.16.0.tar.gz StartedAt: 2024-04-15 22:13:08 -0400 (Mon, 15 Apr 2024) EndedAt: 2024-04-15 22:21:07 -0400 (Mon, 15 Apr 2024) EllapsedTime: 478.9 seconds RetCode: 0 Status: OK CheckDir: AlphaBeta.Rcheck Warnings: 0