Package: AgiMicroRna Version: 2.52.0 Command: /home/biocbuild/bbs-3.18-bioc/R/bin/R CMD INSTALL AgiMicroRna StartedAt: 2024-04-15 15:42:09 -0400 (Mon, 15 Apr 2024) EndedAt: 2024-04-15 15:43:13 -0400 (Mon, 15 Apr 2024) EllapsedTime: 64.1 seconds RetCode: 0 Status: OK