Package: AgiMicroRna Version: 2.52.0 Command: /home/biocbuild/bbs-3.18-bioc/R/bin/R CMD build --keep-empty-dirs --no-resave-data AgiMicroRna StartedAt: 2024-04-15 15:55:46 -0400 (Mon, 15 Apr 2024) EndedAt: 2024-04-15 15:57:51 -0400 (Mon, 15 Apr 2024) EllapsedTime: 125.8 seconds RetCode: 0 Status: OK PackageFile: AgiMicroRna_2.52.0.tar.gz PackageFileSize: 2.963 MiB