Package: AgiMicroRna Version: 2.52.0 Maintainer: Pedro Lopez-Romero MaintainerEmail: plopez at cnic.es git_url: https://git.bioconductor.org/packages/AgiMicroRna git_branch: RELEASE_3_18 git_last_commit: 73e65fb git_last_commit_date: 2023-10-24 09:42:33 -0400 (Tue, 24 Oct 2023)