Package: AffyRNADegradation Version: 1.48.0 Command: chmod a+r AffyRNADegradation -R && F:\biocbuild\bbs-3.18-bioc\R\bin\R.exe CMD build --keep-empty-dirs --no-resave-data AffyRNADegradation StartedAt: 2024-04-15 16:54:00 -0400 (Mon, 15 Apr 2024) EndedAt: 2024-04-15 16:55:40 -0400 (Mon, 15 Apr 2024) EllapsedTime: 99.6 seconds RetCode: 0 Status: OK PackageFile: AffyRNADegradation_1.48.0.tar.gz PackageFileSize: 274.1 KiB