Package: AffyRNADegradation Version: 1.48.0 Command: rm -rf AffyRNADegradation.buildbin-libdir && mkdir AffyRNADegradation.buildbin-libdir && F:\biocbuild\bbs-3.18-bioc\R\bin\R.exe CMD INSTALL --build --library=AffyRNADegradation.buildbin-libdir AffyRNADegradation_1.48.0.tar.gz StartedAt: 2024-04-16 06:37:24 -0400 (Tue, 16 Apr 2024) EndedAt: 2024-04-16 06:37:38 -0400 (Tue, 16 Apr 2024) EllapsedTime: 14.0 seconds RetCode: 0 Status: OK PackageFile: AffyRNADegradation_1.48.0.zip PackageFileSize: 314.4 KiB