Package: AffyRNADegradation Version: 1.48.0 Command: /home/biocbuild/bbs-3.18-bioc/R/bin/R CMD check --install=check:AffyRNADegradation.install-out.txt --library=/home/biocbuild/bbs-3.18-bioc/R/site-library --timings AffyRNADegradation_1.48.0.tar.gz StartedAt: 2024-04-15 19:55:28 -0400 (Mon, 15 Apr 2024) EndedAt: 2024-04-15 19:59:48 -0400 (Mon, 15 Apr 2024) EllapsedTime: 260.0 seconds RetCode: 0 Status: OK CheckDir: AffyRNADegradation.Rcheck Warnings: 0