Package: AffyRNADegradation Version: 1.48.0 Command: /Library/Frameworks/R.framework/Resources/bin/R CMD build --keep-empty-dirs --no-resave-data AffyRNADegradation StartedAt: 2024-04-15 16:48:50 -0400 (Mon, 15 Apr 2024) EndedAt: 2024-04-15 16:51:25 -0400 (Mon, 15 Apr 2024) EllapsedTime: 154.4 seconds RetCode: 0 Status: OK PackageFile: AffyRNADegradation_1.48.0.tar.gz PackageFileSize: 365.1 KiB