Package: AffyRNADegradation Version: 1.48.0 Maintainer: Mario Fasold MaintainerEmail: fasold at izbi.uni-leipzig.de git_url: https://git.bioconductor.org/packages/AffyRNADegradation git_branch: RELEASE_3_18 git_last_commit: dfc274b git_last_commit_date: 2023-10-24 09:49:00 -0400 (Tue, 24 Oct 2023)