Package: AWFisher Version: 1.16.0 Command: chmod a+r AWFisher -R && F:\biocbuild\bbs-3.18-bioc\R\bin\R.exe CMD build --keep-empty-dirs --no-resave-data AWFisher StartedAt: 2024-04-15 17:01:49 -0400 (Mon, 15 Apr 2024) EndedAt: 2024-04-15 17:02:25 -0400 (Mon, 15 Apr 2024) EllapsedTime: 36.2 seconds RetCode: 0 Status: OK PackageFile: AWFisher_1.16.0.tar.gz PackageFileSize: 1.341 MiB