Package: AUCell Version: 1.24.0 Command: chmod a+r AUCell -R && F:\biocbuild\bbs-3.18-bioc\R\bin\R.exe CMD build --keep-empty-dirs --no-resave-data AUCell StartedAt: 2024-04-15 17:00:58 -0400 (Mon, 15 Apr 2024) EndedAt: 2024-04-15 17:03:51 -0400 (Mon, 15 Apr 2024) EllapsedTime: 173.1 seconds RetCode: 0 Status: OK PackageFile: AUCell_1.24.0.tar.gz PackageFileSize: 964.9 KiB