Package: AUCell Version: 1.24.0 Command: /home/biocbuild/bbs-3.18-bioc/R/bin/R CMD check --install=check:AUCell.install-out.txt --library=/home/biocbuild/bbs-3.18-bioc/R/site-library --timings AUCell_1.24.0.tar.gz StartedAt: 2024-04-15 20:10:00 -0400 (Mon, 15 Apr 2024) EndedAt: 2024-04-15 20:10:05 -0400 (Mon, 15 Apr 2024) EllapsedTime: 5.0 seconds RetCode: 1 Status: ERROR CheckDir: AUCell.Rcheck Warnings: NA