Package: AUCell Version: 1.24.0 Command: /Library/Frameworks/R.framework/Resources/bin/R CMD check --install=check:AUCell.install-out.txt --library=/Library/Frameworks/R.framework/Resources/library --no-vignettes --timings AUCell_1.24.0.tar.gz StartedAt: 2024-04-15 23:26:18 -0400 (Mon, 15 Apr 2024) EndedAt: 2024-04-15 23:26:24 -0400 (Mon, 15 Apr 2024) EllapsedTime: 5.4 seconds RetCode: 1 Status: ERROR CheckDir: AUCell.Rcheck Warnings: NA