Package: ATACseqTFEA Version: 1.4.0 Command: F:\biocbuild\bbs-3.18-bioc\R\bin\R.exe CMD check --no-multiarch --install=check:ATACseqTFEA.install-out.txt --library=F:\biocbuild\bbs-3.18-bioc\R\library --no-vignettes --timings ATACseqTFEA_1.4.0.tar.gz StartedAt: 2024-04-15 22:22:45 -0400 (Mon, 15 Apr 2024) EndedAt: 2024-04-15 22:29:29 -0400 (Mon, 15 Apr 2024) EllapsedTime: 404.8 seconds RetCode: 0 Status: OK CheckDir: ATACseqTFEA.Rcheck Warnings: 0