Package: ATACseqTFEA Version: 1.4.0 Command: chmod a+r ATACseqTFEA -R && F:\biocbuild\bbs-3.18-bioc\R\bin\R.exe CMD build --keep-empty-dirs --no-resave-data ATACseqTFEA StartedAt: 2024-04-15 17:00:24 -0400 (Mon, 15 Apr 2024) EndedAt: 2024-04-15 17:02:32 -0400 (Mon, 15 Apr 2024) EllapsedTime: 127.5 seconds RetCode: 0 Status: OK PackageFile: ATACseqTFEA_1.4.0.tar.gz PackageFileSize: 4.288 MiB