Package: ATACseqTFEA Version: 1.4.0 Command: /Library/Frameworks/R.framework/Resources/bin/R CMD INSTALL ATACseqTFEA StartedAt: 2024-04-15 15:40:42 -0400 (Mon, 15 Apr 2024) EndedAt: 2024-04-15 15:42:08 -0400 (Mon, 15 Apr 2024) EllapsedTime: 86.7 seconds RetCode: 0 Status: OK