Package: ATACseqTFEA Version: 1.4.0 Command: rm -rf ATACseqTFEA.buildbin-libdir && mkdir ATACseqTFEA.buildbin-libdir && /Users/biocbuild/BBS/utils/build-universal.sh ATACseqTFEA_1.4.0.tar.gz /Library/Frameworks/R.framework/Resources/bin/R ATACseqTFEA.buildbin-libdir StartedAt: 2024-04-16 11:00:08 -0400 (Tue, 16 Apr 2024) EndedAt: 2024-04-16 11:02:12 -0400 (Tue, 16 Apr 2024) EllapsedTime: 124.3 seconds RetCode: 0 Status: OK PackageFile: ATACseqTFEA_1.4.0.tgz PackageFileSize: 4.875 MiB