Package: ATACseqTFEA Version: 1.4.0 Command: /Library/Frameworks/R.framework/Resources/bin/R CMD INSTALL ATACseqTFEA StartedAt: 2024-03-03 15:22:00 -0500 (Sun, 03 Mar 2024) EndedAt: 2024-03-03 15:23:03 -0500 (Sun, 03 Mar 2024) EllapsedTime: 62.3 seconds RetCode: 0 Status: OK