Package: ASURAT Version: 1.6.0 Command: chmod a+r ASURAT -R && F:\biocbuild\bbs-3.18-bioc\R\bin\R.exe CMD build --keep-empty-dirs --no-resave-data ASURAT StartedAt: 2024-04-15 16:59:59 -0400 (Mon, 15 Apr 2024) EndedAt: 2024-04-15 17:15:07 -0400 (Mon, 15 Apr 2024) EllapsedTime: 907.9 seconds RetCode: 0 Status: OK PackageFile: ASURAT_1.6.0.tar.gz PackageFileSize: 1.16 MiB