Package: ASURAT Version: 1.6.0 Command: rm -rf ASURAT.buildbin-libdir && mkdir ASURAT.buildbin-libdir && F:\biocbuild\bbs-3.18-bioc\R\bin\R.exe CMD INSTALL --build --library=ASURAT.buildbin-libdir ASURAT_1.6.0.tar.gz StartedAt: 2024-04-16 06:39:30 -0400 (Tue, 16 Apr 2024) EndedAt: 2024-04-16 06:40:17 -0400 (Tue, 16 Apr 2024) EllapsedTime: 47.5 seconds RetCode: 0 Status: OK PackageFile: ASURAT_1.6.0.zip PackageFileSize: 3.339 MiB