Package: ASURAT Version: 1.6.0 Command: /Library/Frameworks/R.framework/Resources/bin/R CMD build --keep-empty-dirs --no-resave-data ASURAT StartedAt: 2024-04-15 16:56:06 -0400 (Mon, 15 Apr 2024) EndedAt: 2024-04-15 17:24:44 -0400 (Mon, 15 Apr 2024) EllapsedTime: 1718.9 seconds RetCode: 0 Status: OK PackageFile: ASURAT_1.6.0.tar.gz PackageFileSize: 1.747 MiB