Package: ASGSCA Version: 1.36.0 Command: chmod a+r ASGSCA -R && F:\biocbuild\bbs-3.18-bioc\R\bin\R.exe CMD build --keep-empty-dirs --no-resave-data ASGSCA StartedAt: 2024-04-15 16:59:35 -0400 (Mon, 15 Apr 2024) EndedAt: 2024-04-15 17:02:34 -0400 (Mon, 15 Apr 2024) EllapsedTime: 179.6 seconds RetCode: 0 Status: OK PackageFile: ASGSCA_1.36.0.tar.gz PackageFileSize: 1.183 MiB