Package: ASGSCA Version: 1.36.0 Command: /home/biocbuild/bbs-3.18-bioc/R/bin/R CMD check --install=check:ASGSCA.install-out.txt --library=/home/biocbuild/bbs-3.18-bioc/R/site-library --timings ASGSCA_1.36.0.tar.gz StartedAt: 2024-04-15 20:06:27 -0400 (Mon, 15 Apr 2024) EndedAt: 2024-04-15 20:14:09 -0400 (Mon, 15 Apr 2024) EllapsedTime: 462.6 seconds RetCode: 0 Status: OK CheckDir: ASGSCA.Rcheck Warnings: 0