Package: ASGSCA Version: 1.36.0 Command: rm -rf ASGSCA.buildbin-libdir && mkdir ASGSCA.buildbin-libdir && /Users/biocbuild/BBS/utils/build-universal.sh ASGSCA_1.36.0.tar.gz /Library/Frameworks/R.framework/Resources/bin/R ASGSCA.buildbin-libdir StartedAt: 2024-04-16 10:59:50 -0400 (Tue, 16 Apr 2024) EndedAt: 2024-04-16 11:00:08 -0400 (Tue, 16 Apr 2024) EllapsedTime: 18.2 seconds RetCode: 0 Status: OK PackageFile: ASGSCA_1.36.0.tgz PackageFileSize: 876.3 KiB