Package: ASGSCA Version: 1.36.0 Command: /Library/Frameworks/R.framework/Resources/bin/R CMD build --keep-empty-dirs --no-resave-data ASGSCA StartedAt: 2024-03-03 15:53:42 -0500 (Sun, 03 Mar 2024) EndedAt: 2024-03-03 15:56:37 -0500 (Sun, 03 Mar 2024) EllapsedTime: 175.1 seconds RetCode: 0 Status: OK PackageFile: ASGSCA_1.36.0.tar.gz PackageFileSize: 1.292 MiB