Package: ASAFE Version: 1.28.0 Command: rm -rf ASAFE.buildbin-libdir && mkdir ASAFE.buildbin-libdir && F:\biocbuild\bbs-3.18-bioc\R\bin\R.exe CMD INSTALL --build --library=ASAFE.buildbin-libdir ASAFE_1.28.0.tar.gz StartedAt: 2024-04-16 06:39:17 -0400 (Tue, 16 Apr 2024) EndedAt: 2024-04-16 06:39:28 -0400 (Tue, 16 Apr 2024) EllapsedTime: 11.5 seconds RetCode: 0 Status: OK PackageFile: ASAFE_1.28.0.zip PackageFileSize: 622.7 KiB