Package: APL Version: 1.6.1 Command: chmod a+r APL -R && F:\biocbuild\bbs-3.18-bioc\R\bin\R.exe CMD build --keep-empty-dirs --no-resave-data APL StartedAt: 2024-04-15 16:58:23 -0400 (Mon, 15 Apr 2024) EndedAt: 2024-04-15 17:02:24 -0400 (Mon, 15 Apr 2024) EllapsedTime: 241.4 seconds RetCode: 0 Status: OK PackageFile: APL_1.6.1.tar.gz PackageFileSize: 1.237 MiB