Package: APL Version: 1.6.1 Command: /Library/Frameworks/R.framework/Resources/bin/R CMD build --keep-empty-dirs --no-resave-data APL StartedAt: 2024-04-15 16:54:04 -0400 (Mon, 15 Apr 2024) EndedAt: 2024-04-15 17:00:28 -0400 (Mon, 15 Apr 2024) EllapsedTime: 383.7 seconds RetCode: 0 Status: OK PackageFile: APL_1.6.1.tar.gz PackageFileSize: 2.797 MiB