Package: APL Version: 1.6.1 Command: /Library/Frameworks/R.framework/Resources/bin/R CMD INSTALL APL StartedAt: 2024-03-03 15:36:22 -0500 (Sun, 03 Mar 2024) EndedAt: 2024-03-03 15:37:29 -0500 (Sun, 03 Mar 2024) EllapsedTime: 66.9 seconds RetCode: 0 Status: OK