Package: APAlyzer Version: 1.16.0 Command: /Library/Frameworks/R.framework/Resources/bin/R CMD build --keep-empty-dirs --no-resave-data APAlyzer StartedAt: 2024-03-03 15:53:09 -0500 (Sun, 03 Mar 2024) EndedAt: 2024-03-03 15:55:08 -0500 (Sun, 03 Mar 2024) EllapsedTime: 118.8 seconds RetCode: 0 Status: OK PackageFile: APAlyzer_1.16.0.tar.gz PackageFileSize: 3.906 MiB