Package: ANF Version: 1.24.1 Command: F:\biocbuild\bbs-3.18-bioc\R\bin\R.exe CMD INSTALL ANF StartedAt: 2024-04-15 16:30:31 -0400 (Mon, 15 Apr 2024) EndedAt: 2024-04-15 16:30:41 -0400 (Mon, 15 Apr 2024) EllapsedTime: 9.4 seconds RetCode: 0 Status: OK