Package: ANF Version: 1.24.1 Command: chmod a+r ANF -R && F:\biocbuild\bbs-3.18-bioc\R\bin\R.exe CMD build --keep-empty-dirs --no-resave-data ANF StartedAt: 2024-04-15 16:56:24 -0400 (Mon, 15 Apr 2024) EndedAt: 2024-04-15 16:58:15 -0400 (Mon, 15 Apr 2024) EllapsedTime: 111.5 seconds RetCode: 0 Status: OK PackageFile: ANF_1.24.1.tar.gz PackageFileSize: 683.3 KiB