Package: ANF Version: 1.24.1 Command: rm -rf ANF.buildbin-libdir && mkdir ANF.buildbin-libdir && F:\biocbuild\bbs-3.18-bioc\R\bin\R.exe CMD INSTALL --build --library=ANF.buildbin-libdir ANF_1.24.1.tar.gz StartedAt: 2024-04-16 06:38:24 -0400 (Tue, 16 Apr 2024) EndedAt: 2024-04-16 06:38:36 -0400 (Tue, 16 Apr 2024) EllapsedTime: 11.8 seconds RetCode: 0 Status: OK PackageFile: ANF_1.24.1.zip PackageFileSize: 254.1 KiB