Package: ANF Version: 1.24.1 Command: /Library/Frameworks/R.framework/Resources/bin/R CMD build --keep-empty-dirs --no-resave-data ANF StartedAt: 2024-04-15 16:51:55 -0400 (Mon, 15 Apr 2024) EndedAt: 2024-04-15 16:54:31 -0400 (Mon, 15 Apr 2024) EllapsedTime: 156.2 seconds RetCode: 0 Status: OK PackageFile: ANF_1.24.1.tar.gz PackageFileSize: 683 KiB