Package: ANCOMBC Version: 2.4.0 Command: /Library/Frameworks/R.framework/Resources/bin/R CMD check --install=check:ANCOMBC.install-out.txt --library=/Library/Frameworks/R.framework/Resources/library --no-vignettes --timings ANCOMBC_2.4.0.tar.gz StartedAt: 2024-04-15 23:12:08 -0400 (Mon, 15 Apr 2024) EndedAt: 2024-04-15 23:28:50 -0400 (Mon, 15 Apr 2024) EllapsedTime: 1001.9 seconds RetCode: 0 Status: OK CheckDir: ANCOMBC.Rcheck Warnings: 0