Package: ANCOMBC Version: 2.4.0 Command: /Library/Frameworks/R.framework/Resources/bin/R CMD build --keep-empty-dirs --no-resave-data ANCOMBC StartedAt: 2024-04-15 16:51:46 -0400 (Mon, 15 Apr 2024) EndedAt: 2024-04-15 17:20:05 -0400 (Mon, 15 Apr 2024) EllapsedTime: 1698.9 seconds RetCode: 0 Status: OK PackageFile: ANCOMBC_2.4.0.tar.gz PackageFileSize: 1.27 MiB