Package: ANCOMBC Version: 2.4.0 Command: /home/biocbuild/R/R-4.3.1/bin/R CMD INSTALL ANCOMBC StartedAt: 2023-11-01 20:56:29 -0000 (Wed, 01 Nov 2023) EndedAt: 2023-11-01 20:57:54 -0000 (Wed, 01 Nov 2023) EllapsedTime: 85.5 seconds RetCode: 0 Status: OK