Package: ANCOMBC Version: 2.4.0 Command: /home/biocbuild/R/R-4.3.1/bin/R CMD check --install=check:ANCOMBC.install-out.txt --library=/home/biocbuild/R/R-4.3.1/site-library --no-vignettes --timings ANCOMBC_2.4.0.tar.gz StartedAt: 2023-11-02 08:17:24 -0000 (Thu, 02 Nov 2023) EndedAt: 2023-11-02 08:25:47 -0000 (Thu, 02 Nov 2023) EllapsedTime: 502.3 seconds RetCode: 1 Status: ERROR CheckDir: ANCOMBC.Rcheck Warnings: NA