Package: AMOUNTAIN Version: 1.28.0 Command: rm -rf AMOUNTAIN.buildbin-libdir && mkdir AMOUNTAIN.buildbin-libdir && F:\biocbuild\bbs-3.18-bioc\R\bin\R.exe CMD INSTALL --build --library=AMOUNTAIN.buildbin-libdir AMOUNTAIN_1.28.0.tar.gz StartedAt: 2024-04-16 06:38:12 -0400 (Tue, 16 Apr 2024) EndedAt: 2024-04-16 06:38:18 -0400 (Tue, 16 Apr 2024) EllapsedTime: 5.8 seconds RetCode: 0 Status: OK PackageFile: AMOUNTAIN_1.28.0.zip PackageFileSize: 1.197 MiB