Package: AMOUNTAIN Version: 1.28.0 Command: /home/biocbuild/bbs-3.18-bioc/R/bin/R CMD check --install=check:AMOUNTAIN.install-out.txt --library=/home/biocbuild/bbs-3.18-bioc/R/site-library --timings AMOUNTAIN_1.28.0.tar.gz StartedAt: 2024-04-15 20:00:16 -0400 (Mon, 15 Apr 2024) EndedAt: 2024-04-15 20:00:47 -0400 (Mon, 15 Apr 2024) EllapsedTime: 31.3 seconds RetCode: 0 Status: OK CheckDir: AMOUNTAIN.Rcheck Warnings: 0