Package: ALDEx2 Version: 1.34.0 Command: F:\biocbuild\bbs-3.18-bioc\R\bin\R.exe CMD check --no-multiarch --install=check:ALDEx2.install-out.txt --library=F:\biocbuild\bbs-3.18-bioc\R\library --no-vignettes --timings ALDEx2_1.34.0.tar.gz StartedAt: 2024-04-15 22:12:23 -0400 (Mon, 15 Apr 2024) EndedAt: 2024-04-15 22:17:07 -0400 (Mon, 15 Apr 2024) EllapsedTime: 284.3 seconds RetCode: 0 Status: OK CheckDir: ALDEx2.Rcheck Warnings: 0