Package: ALDEx2 Version: 1.34.0 Command: chmod a+r ALDEx2 -R && F:\biocbuild\bbs-3.18-bioc\R\bin\R.exe CMD build --keep-empty-dirs --no-resave-data ALDEx2 StartedAt: 2024-04-15 16:55:40 -0400 (Mon, 15 Apr 2024) EndedAt: 2024-04-15 16:57:58 -0400 (Mon, 15 Apr 2024) EllapsedTime: 138.0 seconds RetCode: 0 Status: OK PackageFile: ALDEx2_1.34.0.tar.gz PackageFileSize: 1.896 MiB