Package: ALDEx2 Version: 1.34.0 Command: /home/biocbuild/R/R-4.3.1/bin/R CMD build --keep-empty-dirs --no-resave-data ALDEx2 StartedAt: 2023-11-01 22:14:47 -0000 (Wed, 01 Nov 2023) EndedAt: 2023-11-01 22:17:20 -0000 (Wed, 01 Nov 2023) EllapsedTime: 153.2 seconds RetCode: 0 Status: OK PackageFile: ALDEx2_1.34.0.tar.gz PackageFileSize: 3.063 MiB