Package: AHMassBank Version: 1.2.1 Command: /Library/Frameworks/R.framework/Resources/bin/R CMD build --keep-empty-dirs --no-resave-data AHMassBank StartedAt: 2024-03-03 15:50:47 -0500 (Sun, 03 Mar 2024) EndedAt: 2024-03-03 15:51:53 -0500 (Sun, 03 Mar 2024) EllapsedTime: 66.5 seconds RetCode: 0 Status: OK PackageFile: AHMassBank_1.2.1.tar.gz PackageFileSize: 293.4 KiB